BEGIN:VCALENDAR
VERSION:2.0
PRODID:-//The SBAWS | Spina Bifida Advocates of Washington State - ECPv6.15.20//NONSGML v1.0//EN
CALSCALE:GREGORIAN
METHOD:PUBLISH
X-WR-CALNAME:The SBAWS | Spina Bifida Advocates of Washington State
X-ORIGINAL-URL:https://sbaws.org
X-WR-CALDESC:Events for The SBAWS | Spina Bifida Advocates of Washington State
REFRESH-INTERVAL;VALUE=DURATION:PT1H
X-Robots-Tag:noindex
X-PUBLISHED-TTL:PT1H
BEGIN:VTIMEZONE
TZID:America/Los_Angeles
BEGIN:DAYLIGHT
TZOFFSETFROM:-0800
TZOFFSETTO:-0700
TZNAME:PDT
DTSTART:20190310T100000
END:DAYLIGHT
BEGIN:STANDARD
TZOFFSETFROM:-0700
TZOFFSETTO:-0800
TZNAME:PST
DTSTART:20191103T090000
END:STANDARD
BEGIN:DAYLIGHT
TZOFFSETFROM:-0800
TZOFFSETTO:-0700
TZNAME:PDT
DTSTART:20200308T100000
END:DAYLIGHT
BEGIN:STANDARD
TZOFFSETFROM:-0700
TZOFFSETTO:-0800
TZNAME:PST
DTSTART:20201101T090000
END:STANDARD
BEGIN:DAYLIGHT
TZOFFSETFROM:-0800
TZOFFSETTO:-0700
TZNAME:PDT
DTSTART:20210314T100000
END:DAYLIGHT
BEGIN:STANDARD
TZOFFSETFROM:-0700
TZOFFSETTO:-0800
TZNAME:PST
DTSTART:20211107T090000
END:STANDARD
BEGIN:DAYLIGHT
TZOFFSETFROM:-0800
TZOFFSETTO:-0700
TZNAME:PDT
DTSTART:20220313T100000
END:DAYLIGHT
BEGIN:STANDARD
TZOFFSETFROM:-0700
TZOFFSETTO:-0800
TZNAME:PST
DTSTART:20221106T090000
END:STANDARD
BEGIN:DAYLIGHT
TZOFFSETFROM:-0800
TZOFFSETTO:-0700
TZNAME:PDT
DTSTART:20230312T100000
END:DAYLIGHT
BEGIN:STANDARD
TZOFFSETFROM:-0700
TZOFFSETTO:-0800
TZNAME:PST
DTSTART:20231105T090000
END:STANDARD
BEGIN:DAYLIGHT
TZOFFSETFROM:-0800
TZOFFSETTO:-0700
TZNAME:PDT
DTSTART:20240310T100000
END:DAYLIGHT
BEGIN:STANDARD
TZOFFSETFROM:-0700
TZOFFSETTO:-0800
TZNAME:PST
DTSTART:20241103T090000
END:STANDARD
END:VTIMEZONE
BEGIN:VEVENT
DTSTART;TZID=America/Los_Angeles:20230812T100000
DTEND;TZID=America/Los_Angeles:20230812T150000
DTSTAMP:20260421T112232
CREATED:20230606T173543Z
LAST-MODIFIED:20230722T094530Z
UID:2486-1691834400-1691852400@sbaws.org
SUMMARY:2023 Walk-N-Roll at Bradley Lake Park
DESCRIPTION:We are gearing up for our 14th Annual Walk-N-Roll event this summer on August 12th and we have decided to do it at Bradley Lake Park in Puyallup! We love that this is an easily accessible park with a paved pathway\, central to a lot of our family and friends of the Spina Bifida community. We will announce more details about the Walk N Roll (time\, registration\, etc.) as we get closer to the event\, but make sure to save the date and start thinking about your team’s outfit theme! \nWe are also looking to find someone on the east side of the state who would be interested in setting up a sister Walk N Roll event at the same time on the same date so we can include more of our Washington State community. If you are interested in heading up the event\, please fill out our contact form on this page and let us know!
URL:https://sbaws.org/event/2023-walk-n-roll-at-bradley-lake-park/
LOCATION:WA
CATEGORIES:Fundraiser,Walk-N-Roll
END:VEVENT
BEGIN:VEVENT
DTSTART;TZID=America/Los_Angeles:20221204T173000
DTEND;TZID=America/Los_Angeles:20221204T193000
DTSTAMP:20260421T112233
CREATED:20221203T044059Z
LAST-MODIFIED:20221203T044446Z
UID:1990-1670175000-1670182200@sbaws.org
SUMMARY:2022 Holiday Party
DESCRIPTION:Join the SBAWS for our annual Holiday Party. Enjoy the museum\, light refreshments (no dinner served this year)\, and get your photo taken with Santa! Celebrate our Spina Bifida Community with fun for all ages at the Imagine Children’s Museum at 1502 Wall St.\, Everett\, WA 98201 \nAll are welcome to attend and join in on the fun! Please be mindful as it is cold and flu season and stay home if you’re sick. Masks are encouraged\, but not required. \nRSVP: https://www.surveymonkey.com/r/KFXXBB2 \nFacebook Event: https://fb.me/e/5n2qAZdAt \n\n\n\n\n\n\n\n\nTimeline\n\n\n\n\n\n\n\n\n\n\n\n\n\n\n\n\n\n5:30 PM  Museum Free Time\n6:00 PM  Santa Claus Arrives\n 6:30 PM  Light Refreshments*\n*Dinner will not be served this year\n\n\n\n\n\n  \n \n\n\n\n  \nCan’t attend this year?\n \nPlease consider purchasing a gift from our Amazon Wish List. The gifts will be delivered to SBAWS for distribution to the children at the holiday party.
URL:https://sbaws.org/event/2022-holiday-party/
LOCATION:Imagine Children’s Museum\, 1502 Wall St.\, Everett\, WA\, 98201\, United States
CATEGORIES:Fundraiser,Holiday Party
ORGANIZER;CN="The SBAWS":MAILTO:info@sbaws.org
END:VEVENT
BEGIN:VEVENT
DTSTART;TZID=America/Los_Angeles:20200725T090000
DTEND;TZID=America/Los_Angeles:20200725T150000
DTSTAMP:20260421T112233
CREATED:20200610T234839Z
LAST-MODIFIED:20200618T224650Z
UID:1002-1595667600-1595689200@sbaws.org
SUMMARY:Virtual Walk-N-Roll Fundraiser
DESCRIPTION:BIG NEWS! The 11th annual Walk-N-Roll for Spina Bifida is going virtual due to ongoing concern over the COVID-19 pandemic. We are asking you to participate in your own community\, raising awareness\, celebrating our unique differences and fundraising for a cause! \nThe annual Walk-N-Roll is a non-competitive\, one-mile walk/roll event for individuals of all ages and abilities. Families and friends come together each year at this “Christmas in July” event to support and celebrate the Spina Bifida community. \n\nHow to participate in our 2020 virtual event:\n\nRegister your team. (REGISTER HERE)\nStart fundraising.\nSign-up to be featured on our Facebook page from 9am-11am on 7/25. Email walknroll@sbaws.org to sign-up.\nDress up for our theme: “Christmas in July.”\nOn July 25th\, between 9am-12 noon\, complete at least a one-mile walk/roll with your team members\, either together or separately.\nMake a special contribution to SBAWS during our ONLINE GIVING HOUR\, between 11am-12 noon on Walk day! (DONATE HERE)\nWhen you’re done\, email your team members’ names\, photos and general route description to newsletter@sbaws.org.\n\nAn awards presentation will be held from 1pm-3pm on the Spina Bifida Advocates of Washington State Facebook page via FB LIVE! \n\nAwards will be announced in the following categories:\n\nBest COVID-19 Mask\nYoungest & oldest participants\nMost money raised by 12 Noon on 7/25\nMost individual donors\nMost creative wheelchair decorations\nBest Facebook Walk-N-Roll Team Video\nMost creative team photo\nMost “Christmas in July” toys collected\n\n  \nWe will also be accepting toy donations for the following age groups:\nBoys & Girls 0-2\nBoys 5-teens\nGirls 8-teens
URL:https://sbaws.org/event/virtual-walk-n-roll-fundraiser/
LOCATION:WA
CATEGORIES:Fundraiser,Walk-N-Roll
END:VEVENT
END:VCALENDAR