BEGIN:VCALENDAR
VERSION:2.0
PRODID:-//The SBAWS | Spina Bifida Advocates of Washington State - ECPv6.15.20//NONSGML v1.0//EN
CALSCALE:GREGORIAN
METHOD:PUBLISH
X-WR-CALNAME:The SBAWS | Spina Bifida Advocates of Washington State
X-ORIGINAL-URL:https://sbaws.org
X-WR-CALDESC:Events for The SBAWS | Spina Bifida Advocates of Washington State
REFRESH-INTERVAL;VALUE=DURATION:PT1H
X-Robots-Tag:noindex
X-PUBLISHED-TTL:PT1H
BEGIN:VTIMEZONE
TZID:America/Los_Angeles
BEGIN:DAYLIGHT
TZOFFSETFROM:-0800
TZOFFSETTO:-0700
TZNAME:PDT
DTSTART:20240310T100000
END:DAYLIGHT
BEGIN:STANDARD
TZOFFSETFROM:-0700
TZOFFSETTO:-0800
TZNAME:PST
DTSTART:20241103T090000
END:STANDARD
BEGIN:DAYLIGHT
TZOFFSETFROM:-0800
TZOFFSETTO:-0700
TZNAME:PDT
DTSTART:20250309T100000
END:DAYLIGHT
BEGIN:STANDARD
TZOFFSETFROM:-0700
TZOFFSETTO:-0800
TZNAME:PST
DTSTART:20251102T090000
END:STANDARD
BEGIN:DAYLIGHT
TZOFFSETFROM:-0800
TZOFFSETTO:-0700
TZNAME:PDT
DTSTART:20260308T100000
END:DAYLIGHT
BEGIN:STANDARD
TZOFFSETFROM:-0700
TZOFFSETTO:-0800
TZNAME:PST
DTSTART:20261101T090000
END:STANDARD
END:VTIMEZONE
BEGIN:VEVENT
DTSTART;TZID=America/Los_Angeles:20250809T100000
DTEND;TZID=America/Los_Angeles:20250809T100000
DTSTAMP:20260421T182259
CREATED:20250718T020220Z
LAST-MODIFIED:20250718T021644Z
UID:2747-1754733600-1754733600@sbaws.org
SUMMARY:2025 Walk-N-Roll at Bradley Lake Park
DESCRIPTION:Join us on Saturday August 9th\, as we will be hosting our 16th annual Spina Bifida Walk-n-Roll fundraiser! This is a paved 1-mile flat path around Bradley Lake Park in Puyallup\, great for both walking and rolling. It’s free to sign up and participate\, we just encourage you to fund-raise as much money as you can for the organization. All funds raised will be used for local WA State Spina Bifida events such as future Walk-N-Roll events\, our holiday party\, and adult meetups\, as well as funding grants\, resources\, and more! \nPlease make sure to register online here\, or you can register on the day of the event starting at 10am\, but the earlier you register the longer you have to gather donations. You can sign up as an individual\, as a team\, or you can join a team. We recommend creating a team if you have more than two people walking\, since you can always add more people to your team! You can easily sign up multiple people at a time as well! \nWe look forward to seeing you next month! Wear matching shirts\, dress up\, make it fun.
URL:https://sbaws.org/event/2025-walk-n-roll-at-bradley-lake-park/
LOCATION:Bradley Lake Park\, 531 31st Ave. Southeast\, Puyallup\, WA\, 98374\, United States
END:VEVENT
END:VCALENDAR